BEGIN:VCALENDAR
VERSION:2.0
PRODID:-//MyCapital.com Venture Capital Resources - ECPv6.15.13//NONSGML v1.0//EN
CALSCALE:GREGORIAN
METHOD:PUBLISH
X-WR-CALNAME:MyCapital.com Venture Capital Resources
X-ORIGINAL-URL:https://www.mycapital.com/resources
X-WR-CALDESC:Events for MyCapital.com Venture Capital Resources
REFRESH-INTERVAL;VALUE=DURATION:PT1H
X-Robots-Tag:noindex
X-PUBLISHED-TTL:PT1H
BEGIN:VTIMEZONE
TZID:America/New_York
BEGIN:DAYLIGHT
TZOFFSETFROM:-0500
TZOFFSETTO:-0400
TZNAME:EDT
DTSTART:20250309T070000
END:DAYLIGHT
BEGIN:STANDARD
TZOFFSETFROM:-0400
TZOFFSETTO:-0500
TZNAME:EST
DTSTART:20251102T060000
END:STANDARD
BEGIN:DAYLIGHT
TZOFFSETFROM:-0500
TZOFFSETTO:-0400
TZNAME:EDT
DTSTART:20260308T070000
END:DAYLIGHT
BEGIN:STANDARD
TZOFFSETFROM:-0400
TZOFFSETTO:-0500
TZNAME:EST
DTSTART:20261101T060000
END:STANDARD
BEGIN:DAYLIGHT
TZOFFSETFROM:-0500
TZOFFSETTO:-0400
TZNAME:EDT
DTSTART:20270314T070000
END:DAYLIGHT
BEGIN:STANDARD
TZOFFSETFROM:-0400
TZOFFSETTO:-0500
TZNAME:EST
DTSTART:20271107T060000
END:STANDARD
END:VTIMEZONE
BEGIN:VEVENT
DTSTART;VALUE=DATE:20260504
DTEND;VALUE=DATE:20260508
DTSTAMP:20260424T102143
CREATED:20220215T082720Z
LAST-MODIFIED:20260107T123102Z
UID:3963-1777852800-1778198399@www.mycapital.com
SUMMARY:IBM Think
DESCRIPTION:IBM Think: Unleashing the Power of Technology and Expertise \n\n\n\nStep into the world of innovation and transformation at IBM Think\, where groundbreaking insights and cutting-edge technology converge. Our event features captivating keynote presentations that delve into pivotal topics: \n\n\n\n• Turn Challenges into Opportunities with Hybrid Cloud and AI: Learn how to leverage the dynamic combination of hybrid cloud and AI to overcome challenges and uncover new opportunities.• AI for Business: Discover the potential of AI in driving business growth and unlocking new avenues for automation.• Sustainability\, Security\, Generative AI\, and More: Explore a diverse spectrum of subjects\, including sustainability\, security\, generative AI\, and much more\, as we navigate the ever-evolving technological landscape. \n\n\n\nIBM is at the forefront of integrating technology and expertise\, offering a comprehensive suite of solutions that encompass infrastructure\, cutting-edge software (including the market-leading Red Hat)\, and consulting services. Our mission is to empower clients in their pursuit of digital transformation for the world’s most mission-critical businesses. \n\n\n\nJoin us at IBM Think to embark on a transformative journey where technology and expertise converge to shape the future of mission-critical businesses. Uncover the potential of hybrid cloud\, AI\, automation\, and more\, and be part of a global community dedicated to innovation and progress.
URL:https://www.mycapital.com/resources/event/ibm-think/
LOCATION:Florida
END:VEVENT
BEGIN:VEVENT
DTSTART;VALUE=DATE:20260526
DTEND;VALUE=DATE:20260529
DTSTAMP:20260424T102143
CREATED:20240107T073900Z
LAST-MODIFIED:20260107T123020Z
UID:3948-1779753600-1780012799@www.mycapital.com
SUMMARY:Invest Canada
DESCRIPTION:Invest Canada: Where the Industry Connects and Inspires \n\n\n\nWelcome to Invest Canada\, an exclusive event hosted by CVCA that unites the industry’s brightest minds and most prominent figures to create connections\, stimulate deal-making\, and inspire innovation.CVCA members and attendees represent a diverse range of private and public-sector firms that collectively manage billions of dollars in investments\, spanning from groundbreaking start-ups to multi-billion-dollar enterprises. This event is a pivotal platform where you can engage with the industry’s key players\, discover opportunities\, and propel your investment ventures to new heights. \n\n\n\nHear from Renowned Keynote Speakers:• Frances Haugen• Rick Hansen• Sebastian Mallaby• Stephen Poloz• David Suzuki \n\n\n\nInvest Canada is your gateway to invaluable insights\, networking\, and partnership opportunities. Explore the various partner and sponsorship options available to tailor your experience and maximize your benefits at this premier industry gathering. Join us at Invest Canada and be part of the dynamic community shaping the future of investments and innovation. \n\n\n\nDo not miss this chance to expand your network and collaborate with the best and brightest in the industry. Engage in meaningful conversations\, build lasting connections\, and gain access to a wealth of knowledge and experience. Whether you are seeking mentorship\, investment opportunities\, or simply looking to exchange ideas\, Invest Canada provides the perfect setting to connect with like-minded professionals who share your passion for the world of investments.
URL:https://www.mycapital.com/resources/event/invest-canada/
LOCATION:Florida
ORGANIZER;CN="CVCA":MAILTO:cvca@cvca.ca
END:VEVENT
BEGIN:VEVENT
DTSTART;VALUE=DATE:20260608
DTEND;VALUE=DATE:20260613
DTSTAMP:20260424T102143
CREATED:20220215T082051Z
LAST-MODIFIED:20260107T122426Z
UID:3930-1780876800-1781308799@www.mycapital.com
SUMMARY:SuperReturn International
DESCRIPTION:SuperReturn International: Where Private Capital Converges \n\n\n\nPrepare to immerse yourself in the most esteemed gathering of private capital professionals at SuperReturn International. With over 5\,000 of the industry’s most influential GPs and LPs from across the globe\, this is where you will explore the latest opportunities\, challenges\, and projections that shape the world of private capital. \n\n\n\nJoin us to listen\, learn\, and engage in spirited debates with renowned experts. From illuminating presentations to face-to-face discussions and casual chats\, you will have ample opportunities to deepen your understanding of the industry. \n\n\n\nKey topics at SuperReturn International encompass impact and ESG\, growth\, diversity\, tech\, returns\, value\, innovation\, and much more. It is an event that brings together the most senior and globally diverse audience\, with a focus on LP representation. \n\n\n\nOur remarkable assembly features over 5\,000 decision-makers\, including 1\,500+ LPs and 2\,400+ GPs\, all hailing from more than 70 countries. This unique quality and quantity of attendees are unmatched\, offering an unparalleled opportunity to meet and engage with individuals who are most relevant to your business. \n\n\n\nWe structure the event to foster connections through closed-door discussions\, interactive Q&A sessions with speakers\, dedicated networking breaks\, and a series of social events. Additionally\, our cutting-edge online networking app allows you to connect with peers before\, during\, and after the event\, extending the reach of your network. \n\n\n\nAt SuperReturn International\, you will have the privilege of hearing from a multitude of CEOs representing leading private capital firms\, providing invaluable insights and perspectives. This is where private capital professionals converge to chart the course of the industry’s future\, and you will not want to miss it. \n\n\n\n\n\n\n\n\n\n 
URL:https://www.mycapital.com/resources/event/superreturn-international/
LOCATION:InterContinental Hotel\, Berlin\, Germany
ORGANIZER;CN="Informa PLC":MAILTO:info.events@informaconnect.com
END:VEVENT
BEGIN:VEVENT
DTSTART;VALUE=DATE:20260615
DTEND;VALUE=DATE:20260618
DTSTAMP:20260424T102143
CREATED:20220215T082252Z
LAST-MODIFIED:20260107T122524Z
UID:3940-1781481600-1781740799@www.mycapital.com
SUMMARY:SuperReturn Emerging Markets
DESCRIPTION:Unleash the Potential of Growth \n\n\n\nJoin us at SuperReturn Emerging Markets\, the epicenter of expert-led discussions\, where we bring together senior LPs and GPs from around the globe\, all in pursuit of diversifying their portfolios and elevating their business strategies to new heights. \n\n\n\nDive into the core questions that drive investment decisions: Where are LPs directing their capital? What macro trends are reshaping the market landscape? And how can you harvest the rewards that emerge from these dynamic markets? \n\n\n\nAs the sun sets over the picturesque city of Amsterdam\, reflect on the day’s discussions during our cocktail canal cruise\, a unique networking experience like no other. \n\n\n\nPrepare to gain insights from 160+ distinguished speakers\, including LPs with a keen focus on growth markets from Europe and beyond. Our LP speakers represent institutions such as the European Investment Bank\, Hamilton Lane\, The American University in Cairo\, IFC\, Axian Group\, and Buysse & Partners. \n\n\n\nMeanwhile\, our GP speakers hail from esteemed organizations like BTG Pactual\, LoftyInc Capital Management\, Yunqi Partners\, Amadeus Capital Partners\, BlueOrchard Finance\, and Heritas Capital Management. \n\n\n\nSuperReturn Emerging Markets assembles the most international audience of emerging market-focused investors you will find anywhere\, with delegates spanning 45+ countries. Influential LPs attend to glean the latest market intelligence\, engage in exclusive closed-door discussions\, cultivate relationships\, and exchange insights with their peers. \n\n\n\nOur attendees include development finance institutions\, family offices\, insurance companies\, investment banks\, and sovereign wealth funds from across the globe. The Fundraising Summit delves into LP allocations\, emerging manager strategies\, fund domiciling\, impact-driven funds\, localizing investments\, and achieving exit success.
URL:https://www.mycapital.com/resources/event/superreturn-emerging-markets/
LOCATION:Hotel Okura\, Amsterdam\, Netherlands
ORGANIZER;CN="Informa PLC":MAILTO:info.events@informaconnect.com
END:VEVENT
BEGIN:VEVENT
DTSTART;VALUE=DATE:20260622
DTEND;VALUE=DATE:20260626
DTSTAMP:20260424T102143
CREATED:20220215T082503Z
LAST-MODIFIED:20260107T122918Z
UID:3951-1782086400-1782431999@www.mycapital.com
SUMMARY:Bio International Convention
DESCRIPTION:Bio International Convention: Where Biotech Innovators Connect \n\n\n\nJoin us at the Bio International Convention\, a paramount event that brings the global biotech community together for partnership opportunities\, insightful programming\, and networking with leaders in the field. Here is what you can expect: \n\n\n\nBIO One-on-One Partnering ™: \n\n\n\n• Discover potential business partners with ease through our user-friendly online system.• Connect with senior biotech executives\, business development leaders\, and investors from premier firms.• Request meetings and explore collaborative opportunities.Engaging Programming:• Immerse yourself in innovative programming that delves into the current and future state of biotech.• Explore areas such as therapeutic frontiers\, the business of biotech\, regulatory and policy outlooks\, and human capital.• Gain valuable insights and stay informed about the latest developments in the biotech industry.BIO is the world’s largest advocacy association representing member companies\, state biotechnology groups\, academic and research institutions\, and related organizations.Our network spans across the United States and extends to over thirty countries\, making BIO the epicenter of global biotechnology collaboration and advocacy. \n\n\n\nAt the Bio International Convention\, you will find three distinct sections of the convention\, each focusing on a unique aspect of biotech:1. Emerging Biotech Companies:• Discover the latest innovations and breakthroughs from emerging biotech companies.• Connect with visionaries and pioneers in the field who are shaping the future of biotech.1. Health Biotechnology:• Dive into the world of health biotechnology\, where cutting-edge solutions and therapies are transforming healthcare.• Engage with leaders and experts who are advancing the frontiers of health-related biotech.1. Agriculture and Environment:• Explore the critical intersection of biotech in agriculture and the environment.• Connect with innovators and professionals dedicated to sustainable practices and environmental stewardship. \n\n\n\nThe Bio International Convention is your gateway to the world of biotech\, where collaboration\, innovation\, and partnership opportunities abound. Join us to be part of this dynamic community shaping the future of biotechnology.
URL:https://www.mycapital.com/resources/event/bio-international-convention/
LOCATION:Florida
ORGANIZER;CN="Biotechnology Innovation Organization":MAILTO:convention@bio.org
END:VEVENT
BEGIN:VEVENT
DTSTART;VALUE=DATE:20260722
DTEND;VALUE=DATE:20260724
DTSTAMP:20260424T102143
CREATED:20220215T082019Z
LAST-MODIFIED:20260107T122900Z
UID:41445-1784678400-1784851199@www.mycapital.com
SUMMARY:Private Equity Chicago Forum
DESCRIPTION:Discover Excellence at the Annual Private Equity Chicago Forum. \n\n\n\nPrepare to immerse yourself in the heart of private equity at the Annual Private Equity Chicago Forum\, the Midwest’s paramount investor-centric event tailored for LPs navigating the private markets. \n\n\n\nThis forum stands as the central hub where investors\, fund managers\, and advisors converge to explore critical topics spanning sectors\, due diligence practices\, and the vast landscape of private equity investment opportunities\, both within the United States and on a global scale. \n\n\n\nGeared toward investors\, this event offers a comprehensive due diligence platform\, making it the ultimate destination for pension funds\, foundations\, endowments\, family offices\, wealth managers\, consultants\, and sovereign wealth funds. Here\, direct research into private investment opportunities takes center stage. \n\n\n\nOur diverse range of session topics caters to the entire spectrum of private equity investments. From sessions laser-focused on venture capital to comprehensive dialogues surrounding global buyout opportunities\, you will have the chance to engage in enlightening roundtable discussions featuring top-tier global institutional investors who will unveil their unique investment preferences. \n\n\n\nThis year\, we are thrilled to present an extraordinary lineup of keynote speakers\, including: \n\n\n\n• T. Bondurant French\, Chairman\, Adams Street Partners• Brad Dorchinecz\, Co-Founder & Managing Director\, 50 South Capital• Chris Gaffney\, Co-Founder and Managing Director\, Great Hill Partners \n\n\n\nAnd that is just the beginning. Over fifteen additional industry leaders will join our roster of speakers\, collectively bringing their wealth of knowledge to the forefront. \n\n\n\nThe Annual Private Equity Chicago Forum is your opportunity to connect\, learn\, and thrive in the dynamic world of private equity. Join us and be part of an event that will shape the future of the industry.
URL:https://www.mycapital.com/resources/event/private-equity-chicago-forum/
LOCATION:University Club of Chicago\, Chicago\, Illinois\, United States
ORGANIZER;CN="Markets Group":MAILTO:Madison.Meyer@marketsgroup.org
END:VEVENT
BEGIN:VEVENT
DTSTART;VALUE=DATE:20260915
DTEND;VALUE=DATE:20260917
DTSTAMP:20260424T102143
CREATED:20220215T082518Z
LAST-MODIFIED:20260107T122843Z
UID:3956-1789430400-1789603199@www.mycapital.com
SUMMARY:Private Equity Europe Forum
DESCRIPTION:The Private Equity Europe Forum stands as the ultimate investor-centric event for LPs venturing into the world of private markets across Europe and beyond. This forum serves as the exclusive gathering point for investors\, fund managers\, and advisors\, uniting them for an insightful one-day rendezvous. Together\, they delve into critical topics such as sectors\, due diligence\, and private equity investment opportunities\, both within Europe and on a global scale. \n\n\n\nThis investor-focused event is your gateway to a due diligence forum\, attracting European and international pension funds\, foundations\, endowments\, family offices\, wealth managers\, consultants\, and sovereign wealth funds. It is the ideal platform for those keen on conducting direct research into private investment opportunities. \n\n\n\nOur sessions are designed to encompass the entire spectrum of private equity investments. From specialized sessions dedicated to venture capital to comprehensive discussions on global buyout prospects\, you will find engaging roundtables featuring prominent global institutional investors\, each sharing their unique investment appetites. \n\n\n\nDo not miss the chance to hear from our esteemed keynote speakers: \n\n\n\n• Deep Shah\, Co-President\, Head of Europe\, Francisco Partners• David Atterbury\, Head of EMEA\, Managing Director\, HarbourVest• Gilbert Kamieniecky\, Global Head of Private Equity Technology\, Investcorp• Robert Seminara\, Senior Partner\, Head of European Private Equity\, Apollo Global Management• Reynir Indahl\, Founder\, Summa Equity \n\n\n\nOur event hosts over a dozen more industry-leading professionals as speakers\, each bringing their wealth of knowledge to the table. \n\n\n\nThe Private Equity Europe Forum is your golden ticket to unlocking the full potential of the private equity landscape. Join us and be part of this extraordinary gathering that will shape the future of the industry. \n\n\n\n\n\n\n\n\n\n 
URL:https://www.mycapital.com/resources/event/private-equity-europe-forum/
LOCATION:etc.venues 133 Houndsditch\, London\, United Kingdom
ORGANIZER;CN="Markets Group":MAILTO:Madison.Meyer@marketsgroup.org
END:VEVENT
BEGIN:VEVENT
DTSTART;VALUE=DATE:20260929
DTEND;VALUE=DATE:20261003
DTSTAMP:20260424T102143
CREATED:20220215T081951Z
LAST-MODIFIED:20260107T122819Z
UID:3923-1790640000-1790985599@www.mycapital.com
SUMMARY:SuperReturn Asia
DESCRIPTION:Embark on an Unforgettable Journey at SuperReturn Asia. \n\n\n\nJoin us in the heart of Singapore for the most distinguished gathering in the Asian private capital – SuperReturn Asia. As the largest\, most senior\, and most globally inclusive event in the region\, it is where more than 2\,000 key industry leaders converge for an unparalleled experience. \n\n\n\nAt SuperReturn Asia\, the private capital community of the region comes together with GPs and LPs from around the world\, creating a nexus of unparalleled opportunity. \n\n\n\nExperience a unique blend of networking and learning that you will not find anywhere else. Connect with over 2\,000 senior decision-makers hailing from 50+ countries\, including a formidable lineup of 800+ LPs and 1\,000+ GPs. \n\n\n\nForge new partnerships with international LPs representing some of Asian private capital’s most influential and fastest-growing firms. Companies like Partners Group\, BPEA EQT\, Apollo Global Management\, Abu Dhabi Investment Authority\, Caltech Investment Office\, Temasek Holdings\, and many more will be present. \n\n\n\nKey topics covered include venture capital\, private credit\, the democratization of private markets\, macroeconomic outlook\, fundraising\, AI and deep tech\, private credit\, value creation\, and much more. Do not miss this extraordinary opportunity to be part of the most significant gathering in Asian private capital\, SuperReturn Asia. \n\n\n\nSuperReturn Asia is meticulously designed to ensure that you meet and do business with the individuals most relevant to you and your enterprise. Engage in speed networking\, participate in closed-door sessions\, and savor drinks receptions as you connect with the leading players in Asian private capital.And thanks to our cutting-edge online networking app\, you can establish connections before\, during\, and after the event\, extending the reach of your network even further. \n\n\n\n\n\n\n\n\n\n 
URL:https://www.mycapital.com/resources/event/superreturn-asia/
LOCATION:Marina Bay Sands Convention Centre\, Singapore
ORGANIZER;CN="Informa PLC":MAILTO:info.events@informaconnect.com
END:VEVENT
BEGIN:VEVENT
DTSTART;VALUE=DATE:20261005
DTEND;VALUE=DATE:20261008
DTSTAMP:20260424T102143
CREATED:20220215T081943Z
LAST-MODIFIED:20260107T122801Z
UID:41442-1791158400-1791417599@www.mycapital.com
SUMMARY:SuperReturn CFO/COO Forum
DESCRIPTION:Elevate Your Private Equity Insights at the SuperReturn CFO/COO Forum. \n\n\n\nStep into the world of SuperReturn CFO/COO\, where the industry’s foremost senior professionals in private equity finance\, operations\, compliance\, risk\, and technology converge. This event is the ultimate hub for forging connections\, sharing insights\, and navigating the evolving landscape of finance and operations in an ever-changing world. \n\n\n\nExperience data-rich presentations\, engaging panel discussions\, showcases\, and intimate small-group conversations that offer a deep dive into the rapid evolution of finance and operations functions. \n\n\n\nJoin us to exchange invaluable insights\, best practices\, and lessons learned that can guide your business toward a brighter future. Our agenda is designed to address the pressing issues of our time\, from geopolitical and macroeconomic developments to forthcoming regulations\, tax changes\, operational hurdles\, and the art of portfolio value creation. Discover how your firm can strategically position itself to mitigate new risks and seize market opportunities. \n\n\n\nThe SuperReturn CFO/COO Forum boasts a lineup of distinguished experts\, including representatives from Abrdn\, Apera Asset Management\, Ares Management\, Adams Street Partners\, MassMutual\, BC Partners\, Verdane\, BNY Mellon\, Triton Partners\, ETF Partners\, and many more. \n\n\n\nEnhance your networking prowess by connecting with like-minded peers during facilitated breakfast meetings\, power-packed lunches\, rejuvenating coffee breaks\, and lively evening cocktail receptions. Our cutting-edge networking app allows you to connect with the individuals who matter most to you both before\, during\, and after the event. \n\n\n\n\n\n\n\n\n\n 
URL:https://www.mycapital.com/resources/event/superreturn-cfo-coo-forum/
LOCATION:Hotel Okura\, Amsterdam\, Netherlands
ORGANIZER;CN="Informa PLC":MAILTO:info.events@informaconnect.com
END:VEVENT
BEGIN:VEVENT
DTSTART;VALUE=DATE:20261020
DTEND;VALUE=DATE:20261023
DTSTAMP:20260424T102143
CREATED:20220215T081944Z
LAST-MODIFIED:20260107T122646Z
UID:41444-1792454400-1792713599@www.mycapital.com
SUMMARY:SuperReturn Middle East
DESCRIPTION:SuperReturn Middle East is your gateway to the future of private capital investing in the Middle East. Connect with over 400 senior attendees\, including 125+ LPs and 200+ GPs\, from the MENA region and beyond. This premier event is designed to offer the inside track on essential topics such as technology\, venture capital\, value creation\, sustainability\, and much more. \n\n\n\n• Gathering of Private Equity Leaders: SuperReturn Middle East brings together the most influential private capital executives in the region. Join 400+ professionals from 20+ countries to participate in interactive panels\, presentations\, interviews\, and more. Engage in conversations that are shaping the industry and discover where the region’s top investors are seeking opportunities.• High-Caliber Attendees: Connect with senior private equity leaders\, including founders\, CEOs\, and managing directors\, while expanding your network with 125+ LPs and 200+ GPs. Prominent attendees from organizations such as Development Partners International (DPI)\, Emerging Investment Partners\, Quadria Capital\, She Capital\, True Green Capital Management LLC\, Next Energy Capital\, StepStone Capital\, Vintage Investment Partners\, and many more will be in attendance.• Productive Networking: SuperReturn Middle East facilitates meaningful networking opportunities\, including breakfast meetings\, lunches\, coffee breaks\, and evening receptions. Additionally\, the event’s networking app allows you to connect with industry peers before\, during\, and after the event\, ensuring you make valuable connections.• Insights from Industry Experts: Gain insights from senior private equity leaders on a range of topics\, including technology\, venture capital\, value creation\, sustainability\, and more. Hear from experts representing organizations like DANA Group\, Quona Capital\, Headway Capital Partners\, First Circle Capital\, Emerging Investment Partners\, and many others. \n\n\n\nSuperReturn Middle East is your opportunity to connect with private capital leaders\, explore the future of investing in the Middle East\, and stay informed about key industry trends. Do not miss this exclusive event that brings together top professionals and fosters invaluable connections. \n\n\n\n\n\n 
URL:https://www.mycapital.com/resources/event/superreturn-middle-east/
LOCATION:The Ritz-Carlton\, DIFC\, Dubai\, United Arab Emirates
ORGANIZER;CN="Informa PLC":MAILTO:info.events@informaconnect.com
END:VEVENT
BEGIN:VEVENT
DTSTART;VALUE=DATE:20261202
DTEND;VALUE=DATE:20261204
DTSTAMP:20260424T102143
CREATED:20220215T082748Z
LAST-MODIFIED:20260107T122735Z
UID:3969-1796169600-1796342399@www.mycapital.com
SUMMARY:SuperReturn Japan
DESCRIPTION:Discover the intricacies of Japan’s private markets at SuperReturn Japan\, your key to unlocking the inside track on the latest developments in the Land of the Rising Sun. Whether you are an industry veteran or a newcomer\, this event offers a granular look at what’s shaping Japan’s private markets. \nExplore crucial topics such as carveouts\, successions\, value creation\, investor sentiment\, private credit\, valuations\, VC market outlook\, co-investments\, and more. Our comprehensive agenda ensures you are up to date with the most pressing issues impacting the industry. \nSuperReturn Japan is not just about insights; it is your chance to build meaningful connections. Whether you are a GP seeking to raise capital or an LP eager to meet promising managers\, this event provides the perfect platform to forge lasting relationships. \nPrevious attendees from esteemed organizations like Aksia\, Asian Development Bank\, Manulife. \nInvestment Management\, Japan Investment Corporation\, The Dai-ichi Life Insurance Company\, Limited\, and many more\, have benefited from SuperReturn Japan’s networking opportunities on a different scale.Our diverse program maximizes networking opportunities\, with sessions catering exclusively to LPs\, GPs/service providers\, closed-door LP/GP meetings\, speed networking sessions\, and evening drinks receptions. It is the perfect environment to foster valuable connections and collaborations. \nDo not miss the insights that matter most. Our renowned speaker faculty\, comprising industry thought leaders\, will share their perspectives on critical developments in private markets. Engage in panel-led discussions\, absorb wisdom from keynote presentations\, participate in insightful fireside chats\, and dive deep into closed-door workshops. \nJoin us at SuperReturn Japan to access a wealth of knowledge and build the relationships that will drive your success in Japan’s private markets. \n\n\n\n\n\n\n\n 
URL:https://www.mycapital.com/resources/event/superreturn-japan/
LOCATION:The Ritz-Carlton\, Tokyo\, Japan
ORGANIZER;CN="Informa PLC":MAILTO:info.events@informaconnect.com
END:VEVENT
END:VCALENDAR